BEGIN:VCALENDAR
VERSION:2.0
PRODID:-//The Warrior&#039;s Guide To Thrive - ECPv6.15.20//NONSGML v1.0//EN
CALSCALE:GREGORIAN
METHOD:PUBLISH
X-WR-CALNAME:The Warrior&#039;s Guide To Thrive
X-ORIGINAL-URL:https://www.thewarriorsguidetothrive.com
X-WR-CALDESC:Events for The Warrior&#039;s Guide To Thrive
REFRESH-INTERVAL;VALUE=DURATION:PT1H
X-Robots-Tag:noindex
X-PUBLISHED-TTL:PT1H
BEGIN:VTIMEZONE
TZID:America/Chicago
BEGIN:DAYLIGHT
TZOFFSETFROM:-0600
TZOFFSETTO:-0500
TZNAME:CDT
DTSTART:20170312T080000
END:DAYLIGHT
BEGIN:STANDARD
TZOFFSETFROM:-0500
TZOFFSETTO:-0600
TZNAME:CST
DTSTART:20171105T070000
END:STANDARD
BEGIN:DAYLIGHT
TZOFFSETFROM:-0600
TZOFFSETTO:-0500
TZNAME:CDT
DTSTART:20180311T080000
END:DAYLIGHT
BEGIN:STANDARD
TZOFFSETFROM:-0500
TZOFFSETTO:-0600
TZNAME:CST
DTSTART:20181104T070000
END:STANDARD
BEGIN:DAYLIGHT
TZOFFSETFROM:-0600
TZOFFSETTO:-0500
TZNAME:CDT
DTSTART:20190310T080000
END:DAYLIGHT
BEGIN:STANDARD
TZOFFSETFROM:-0500
TZOFFSETTO:-0600
TZNAME:CST
DTSTART:20191103T070000
END:STANDARD
END:VTIMEZONE
BEGIN:VEVENT
DTSTART;TZID=America/Chicago:20180818T123000
DTEND;TZID=America/Chicago:20180818T140000
DTSTAMP:20260423T093656
CREATED:20180806T215841Z
LAST-MODIFIED:20180806T220056Z
UID:2927-1534595400-1534600800@www.thewarriorsguidetothrive.com
SUMMARY:Tai Chi Workshop
DESCRIPTION:This is a beginner course designed to teach 8 basic forms of Tai Chi Chuan. Tai Chi is known to help develop muscle strength\, improve flexibility/circulation and relieve stress. This class will introduce students the basic concepts related to relaxing (body and mind) and balancing. Each class will include basic stretching to warm up muscles and lessons students can take home to practice daily. \nThe class will include moves requiring students to balance on one leg\, transfer body weight from one leg to another and other moves\, which some students may find challenging. Tai Chi is meant to be practiced slowly and smoothly. If any students have restrictions to any of these movements\, the instructor will help the student modify to their appropriate skill level. \nThis class is open and encouraged for all ages and people. \n$20
URL:https://www.thewarriorsguidetothrive.com/event/tai-chi-workshop/
LOCATION:Clarity Physical Therapy\, 814 Hillgrove\, Western Springs\, IL\, 60558\, United States
ATTACH;FMTTYPE=image/jpeg:https://www.thewarriorsguidetothrive.com/wp-content/uploads/2018/04/BA01A3E5-DACA-4C4A-86AF-A28125F02690.jpeg
END:VEVENT
BEGIN:VEVENT
DTSTART;TZID=America/Chicago:20180616T090000
DTEND;TZID=America/Chicago:20180616T100000
DTSTAMP:20260423T093656
CREATED:20180614T160647Z
LAST-MODIFIED:20180614T160647Z
UID:2916-1529139600-1529143200@www.thewarriorsguidetothrive.com
SUMMARY:Tai Chi at Illinois Shaolin Kung Fu
DESCRIPTION:Time:  9am – 10am \nDate:  Saturday June 16\, 2018 \nLocation: 1163 E Ogden Ave #633\, Naperville\, IL 60563 \n 
URL:https://www.thewarriorsguidetothrive.com/event/tai-chi-at-illinois-shaolin-kung-fu/
LOCATION:Illinois Shaolin Kung Fu\, 1163 E Ogden Ave\, Naperville\, IL\, 60563\, United States
ATTACH;FMTTYPE=image/jpeg:https://www.thewarriorsguidetothrive.com/wp-content/uploads/2018/04/BA01A3E5-DACA-4C4A-86AF-A28125F02690.jpeg
END:VEVENT
END:VCALENDAR